BEGIN:VCALENDAR
VERSION:2.0
PRODID:-//Barons Creek Vineyards - ECPv6.15.20//NONSGML v1.0//EN
CALSCALE:GREGORIAN
METHOD:PUBLISH
X-ORIGINAL-URL:https://baronscreekvineyards.com
X-WR-CALDESC:Events for Barons Creek Vineyards
REFRESH-INTERVAL;VALUE=DURATION:PT1H
X-Robots-Tag:noindex
X-PUBLISHED-TTL:PT1H
BEGIN:VTIMEZONE
TZID:America/Los_Angeles
BEGIN:DAYLIGHT
TZOFFSETFROM:-0800
TZOFFSETTO:-0700
TZNAME:PDT
DTSTART:20250309T100000
END:DAYLIGHT
BEGIN:STANDARD
TZOFFSETFROM:-0700
TZOFFSETTO:-0800
TZNAME:PST
DTSTART:20251102T090000
END:STANDARD
BEGIN:DAYLIGHT
TZOFFSETFROM:-0800
TZOFFSETTO:-0700
TZNAME:PDT
DTSTART:20260308T100000
END:DAYLIGHT
BEGIN:STANDARD
TZOFFSETFROM:-0700
TZOFFSETTO:-0800
TZNAME:PST
DTSTART:20261101T090000
END:STANDARD
BEGIN:DAYLIGHT
TZOFFSETFROM:-0800
TZOFFSETTO:-0700
TZNAME:PDT
DTSTART:20270314T100000
END:DAYLIGHT
BEGIN:STANDARD
TZOFFSETFROM:-0700
TZOFFSETTO:-0800
TZNAME:PST
DTSTART:20271107T090000
END:STANDARD
END:VTIMEZONE
BEGIN:VEVENT
DTSTART;TZID=America/Los_Angeles:20260419T120000
DTEND;TZID=America/Los_Angeles:20260419T170000
DTSTAMP:20260422T150119
CREATED:20260211T192545Z
LAST-MODIFIED:20260211T192545Z
UID:10003275-1776600000-1776618000@baronscreekvineyards.com
SUMMARY:McKinney - Release Party
DESCRIPTION:⛳🍷 It’s tee time… Masters Style! Join us for our Masters Themed Wine Club Release Party — where championship vibes meet award-worthy pours. \nWe’re bringing Augusta-inspired flair to the tasting room with a day full of great wine and elevated fun. Slip into your best golf attire (yes\, green jackets encouraged)\, grab a glass\, and celebrate the new club release in true Masters fashion. \n✨ What’s on the leaderboard:\n• First taste of our newest club wines\n• Masters-inspired bites & pairings\n• A lively\, social atmosphere perfect for sipping and celebrating \nClub members — this is your invitation to celebrate in style. Let’s raise a glass to birdies\, bogeys\, and bottles worth cheering for! \nReserve your spot — this is one release party you don’t want to miss!
URL:https://baronscreekvineyards.com/event/mckinney-release-party/
LOCATION:McKinney\, 301 W Louisiana St\, McKinney\, TX\, 75069\, United States
CATEGORIES:Wine Club Event
ATTACH;FMTTYPE=image/png:https://baronscreekvineyards.com/wp-content/uploads/2026/02/Texas-April-Club-Release.png
END:VEVENT
BEGIN:VEVENT
DTSTART;TZID=America/Los_Angeles:20260415T183000
DTEND;TZID=America/Los_Angeles:20260415T203000
DTSTAMP:20260422T150119
CREATED:20260218T205856Z
LAST-MODIFIED:20260218T205857Z
UID:10003343-1776277800-1776285000@baronscreekvineyards.com
SUMMARY:McKinney - Name That Tune Bingo
DESCRIPTION:Join us for an evening of melodies\, bingo\, and delightful wines. As the tunes play\, test your musical knowledge and mark off the songs on your bingo card. \nBring your friends and your competitive spirit as we blend the joy of music\, the thrill of bingo\, and the indulgence of wine into a night you won’t regret.
URL:https://baronscreekvineyards.com/event/mckinney-name-that-tune-bingo/2026-04-15/
LOCATION:McKinney\, 301 W Louisiana St\, McKinney\, TX\, 75069\, United States
CATEGORIES:Special Event
ATTACH;FMTTYPE=image/jpeg:https://baronscreekvineyards.com/wp-content/uploads/2025/10/image0.jpeg
END:VEVENT
BEGIN:VEVENT
DTSTART;TZID=America/Los_Angeles:20260408T183000
DTEND;TZID=America/Los_Angeles:20260408T203000
DTSTAMP:20260422T150119
CREATED:20260218T205856Z
LAST-MODIFIED:20260218T205857Z
UID:10003342-1775673000-1775680200@baronscreekvineyards.com
SUMMARY:McKinney - Name That Tune Bingo
DESCRIPTION:Join us for an evening of melodies\, bingo\, and delightful wines. As the tunes play\, test your musical knowledge and mark off the songs on your bingo card. \nBring your friends and your competitive spirit as we blend the joy of music\, the thrill of bingo\, and the indulgence of wine into a night you won’t regret.
URL:https://baronscreekvineyards.com/event/mckinney-name-that-tune-bingo/2026-04-08/
LOCATION:McKinney\, 301 W Louisiana St\, McKinney\, TX\, 75069\, United States
CATEGORIES:Special Event
ATTACH;FMTTYPE=image/jpeg:https://baronscreekvineyards.com/wp-content/uploads/2025/10/image0.jpeg
END:VEVENT
BEGIN:VEVENT
DTSTART;TZID=America/Los_Angeles:20260401T183000
DTEND;TZID=America/Los_Angeles:20260401T203000
DTSTAMP:20260422T150119
CREATED:20260218T205856Z
LAST-MODIFIED:20260218T205857Z
UID:10003341-1775068200-1775075400@baronscreekvineyards.com
SUMMARY:McKinney - Name That Tune Bingo
DESCRIPTION:Join us for an evening of melodies\, bingo\, and delightful wines. As the tunes play\, test your musical knowledge and mark off the songs on your bingo card. \nBring your friends and your competitive spirit as we blend the joy of music\, the thrill of bingo\, and the indulgence of wine into a night you won’t regret.
URL:https://baronscreekvineyards.com/event/mckinney-name-that-tune-bingo/2026-04-01/
LOCATION:McKinney\, 301 W Louisiana St\, McKinney\, TX\, 75069\, United States
CATEGORIES:Special Event
ATTACH;FMTTYPE=image/jpeg:https://baronscreekvineyards.com/wp-content/uploads/2025/10/image0.jpeg
END:VEVENT
BEGIN:VEVENT
DTSTART;TZID=America/Los_Angeles:20260325T183000
DTEND;TZID=America/Los_Angeles:20260325T203000
DTSTAMP:20260422T150119
CREATED:20260218T205856Z
LAST-MODIFIED:20260218T205857Z
UID:10003340-1774463400-1774470600@baronscreekvineyards.com
SUMMARY:McKinney - Name That Tune Bingo
DESCRIPTION:Join us for an evening of melodies\, bingo\, and delightful wines. As the tunes play\, test your musical knowledge and mark off the songs on your bingo card. \nBring your friends and your competitive spirit as we blend the joy of music\, the thrill of bingo\, and the indulgence of wine into a night you won’t regret.
URL:https://baronscreekvineyards.com/event/mckinney-name-that-tune-bingo/2026-03-25/
LOCATION:McKinney\, 301 W Louisiana St\, McKinney\, TX\, 75069\, United States
CATEGORIES:Special Event
ATTACH;FMTTYPE=image/jpeg:https://baronscreekvineyards.com/wp-content/uploads/2025/10/image0.jpeg
END:VEVENT
BEGIN:VEVENT
DTSTART;TZID=America/Los_Angeles:20260319T180000
DTEND;TZID=America/Los_Angeles:20260319T200000
DTSTAMP:20260422T150119
CREATED:20260218T210358Z
LAST-MODIFIED:20260218T210358Z
UID:10003398-1773943200-1773950400@baronscreekvineyards.com
SUMMARY:McKinney - Not Our First Rodeo\, Stand Up Comedy Tour
DESCRIPTION:Two Acclaimed Comedians Bring Unforgettable Laughter to the Stage! Nationally touring comedian\, motivational speaker\, and award-winning radio host and actress\, Magen King is teaming up with “Nick@Nite’s Search for the Funniest Mom in America finalist” Donna Lee to present their new double-headliner comedy show. The show promises a night of bold\, brutally honest\, and laugh-out-loud comedy that audiences won’t forget.
URL:https://baronscreekvineyards.com/event/mckinney-not-our-first-rodeo-stand-up-comedy-tour/
LOCATION:McKinney\, 301 W Louisiana St\, McKinney\, TX\, 75069\, United States
CATEGORIES:Special Event
ATTACH;FMTTYPE=image/png:https://baronscreekvineyards.com/wp-content/uploads/2026/02/NOFR_square-flyer.png
END:VEVENT
BEGIN:VEVENT
DTSTART;TZID=America/Los_Angeles:20260318T183000
DTEND;TZID=America/Los_Angeles:20260318T203000
DTSTAMP:20260422T150119
CREATED:20260218T205856Z
LAST-MODIFIED:20260218T205857Z
UID:10003339-1773858600-1773865800@baronscreekvineyards.com
SUMMARY:McKinney - Name That Tune Bingo
DESCRIPTION:Join us for an evening of melodies\, bingo\, and delightful wines. As the tunes play\, test your musical knowledge and mark off the songs on your bingo card. \nBring your friends and your competitive spirit as we blend the joy of music\, the thrill of bingo\, and the indulgence of wine into a night you won’t regret.
URL:https://baronscreekvineyards.com/event/mckinney-name-that-tune-bingo/2026-03-18/
LOCATION:McKinney\, 301 W Louisiana St\, McKinney\, TX\, 75069\, United States
CATEGORIES:Special Event
ATTACH;FMTTYPE=image/jpeg:https://baronscreekvineyards.com/wp-content/uploads/2025/10/image0.jpeg
END:VEVENT
BEGIN:VEVENT
DTSTART;TZID=America/Los_Angeles:20260311T183000
DTEND;TZID=America/Los_Angeles:20260311T203000
DTSTAMP:20260422T150119
CREATED:20260218T205856Z
LAST-MODIFIED:20260218T205857Z
UID:10003338-1773253800-1773261000@baronscreekvineyards.com
SUMMARY:McKinney - Name That Tune Bingo
DESCRIPTION:Join us for an evening of melodies\, bingo\, and delightful wines. As the tunes play\, test your musical knowledge and mark off the songs on your bingo card. \nBring your friends and your competitive spirit as we blend the joy of music\, the thrill of bingo\, and the indulgence of wine into a night you won’t regret.
URL:https://baronscreekvineyards.com/event/mckinney-name-that-tune-bingo/2026-03-11/
LOCATION:McKinney\, 301 W Louisiana St\, McKinney\, TX\, 75069\, United States
CATEGORIES:Special Event
ATTACH;FMTTYPE=image/jpeg:https://baronscreekvineyards.com/wp-content/uploads/2025/10/image0.jpeg
END:VEVENT
BEGIN:VEVENT
DTSTART;TZID=America/Los_Angeles:20260304T183000
DTEND;TZID=America/Los_Angeles:20260304T203000
DTSTAMP:20260422T150119
CREATED:20260218T205856Z
LAST-MODIFIED:20260218T205857Z
UID:10003337-1772649000-1772656200@baronscreekvineyards.com
SUMMARY:McKinney - Name That Tune Bingo
DESCRIPTION:Join us for an evening of melodies\, bingo\, and delightful wines. As the tunes play\, test your musical knowledge and mark off the songs on your bingo card. \nBring your friends and your competitive spirit as we blend the joy of music\, the thrill of bingo\, and the indulgence of wine into a night you won’t regret.
URL:https://baronscreekvineyards.com/event/mckinney-name-that-tune-bingo/2026-03-04/
LOCATION:McKinney\, 301 W Louisiana St\, McKinney\, TX\, 75069\, United States
CATEGORIES:Special Event
ATTACH;FMTTYPE=image/jpeg:https://baronscreekvineyards.com/wp-content/uploads/2025/10/image0.jpeg
END:VEVENT
BEGIN:VEVENT
DTSTART;TZID=America/Los_Angeles:20260225T183000
DTEND;TZID=America/Los_Angeles:20260225T203000
DTSTAMP:20260422T150119
CREATED:20260218T205856Z
LAST-MODIFIED:20260218T205857Z
UID:10003336-1772044200-1772051400@baronscreekvineyards.com
SUMMARY:McKinney - Name That Tune Bingo
DESCRIPTION:Join us for an evening of melodies\, bingo\, and delightful wines. As the tunes play\, test your musical knowledge and mark off the songs on your bingo card. \nBring your friends and your competitive spirit as we blend the joy of music\, the thrill of bingo\, and the indulgence of wine into a night you won’t regret.
URL:https://baronscreekvineyards.com/event/mckinney-name-that-tune-bingo/2026-02-25/
LOCATION:McKinney\, 301 W Louisiana St\, McKinney\, TX\, 75069\, United States
CATEGORIES:Special Event
ATTACH;FMTTYPE=image/jpeg:https://baronscreekvineyards.com/wp-content/uploads/2025/10/image0.jpeg
END:VEVENT
BEGIN:VEVENT
DTSTART;TZID=America/Los_Angeles:20260218T183000
DTEND;TZID=America/Los_Angeles:20260218T203000
DTSTAMP:20260422T150119
CREATED:20260218T205856Z
LAST-MODIFIED:20260218T205857Z
UID:10003335-1771439400-1771446600@baronscreekvineyards.com
SUMMARY:McKinney - Name That Tune Bingo
DESCRIPTION:Join us for an evening of melodies\, bingo\, and delightful wines. As the tunes play\, test your musical knowledge and mark off the songs on your bingo card. \nBring your friends and your competitive spirit as we blend the joy of music\, the thrill of bingo\, and the indulgence of wine into a night you won’t regret.
URL:https://baronscreekvineyards.com/event/mckinney-name-that-tune-bingo/2026-02-18/
LOCATION:McKinney\, 301 W Louisiana St\, McKinney\, TX\, 75069\, United States
CATEGORIES:Special Event
ATTACH;FMTTYPE=image/jpeg:https://baronscreekvineyards.com/wp-content/uploads/2025/10/image0.jpeg
END:VEVENT
END:VCALENDAR