BEGIN:VCALENDAR
VERSION:2.0
PRODID:-//Barons Creek Vineyards - ECPv6.15.20//NONSGML v1.0//EN
CALSCALE:GREGORIAN
METHOD:PUBLISH
X-ORIGINAL-URL:https://baronscreekvineyards.com
X-WR-CALDESC:Events for Barons Creek Vineyards
REFRESH-INTERVAL;VALUE=DURATION:PT1H
X-Robots-Tag:noindex
X-PUBLISHED-TTL:PT1H
BEGIN:VTIMEZONE
TZID:America/Los_Angeles
BEGIN:DAYLIGHT
TZOFFSETFROM:-0800
TZOFFSETTO:-0700
TZNAME:PDT
DTSTART:20250309T100000
END:DAYLIGHT
BEGIN:STANDARD
TZOFFSETFROM:-0700
TZOFFSETTO:-0800
TZNAME:PST
DTSTART:20251102T090000
END:STANDARD
BEGIN:DAYLIGHT
TZOFFSETFROM:-0800
TZOFFSETTO:-0700
TZNAME:PDT
DTSTART:20260308T100000
END:DAYLIGHT
BEGIN:STANDARD
TZOFFSETFROM:-0700
TZOFFSETTO:-0800
TZNAME:PST
DTSTART:20261101T090000
END:STANDARD
BEGIN:DAYLIGHT
TZOFFSETFROM:-0800
TZOFFSETTO:-0700
TZNAME:PDT
DTSTART:20270314T100000
END:DAYLIGHT
BEGIN:STANDARD
TZOFFSETFROM:-0700
TZOFFSETTO:-0800
TZNAME:PST
DTSTART:20271107T090000
END:STANDARD
END:VTIMEZONE
BEGIN:VEVENT
DTSTART;TZID=America/Los_Angeles:20260416T190000
DTEND;TZID=America/Los_Angeles:20260416T210000
DTSTAMP:20260422T192926
CREATED:20260218T192353Z
LAST-MODIFIED:20260218T192353Z
UID:10003318-1776366000-1776373200@baronscreekvineyards.com
SUMMARY:Georgetown - Name That Tune Bingo
DESCRIPTION:Join us for an evening of melodies\, bingo\, and delightful wines. As the tunes play\, test your musical knowledge and mark off the songs on your bingo card. \nBring your friends and your competitive spirit as we blend the joy of music\, the thrill of bingo\, and the indulgence of wine into a night you won’t regret .
URL:https://baronscreekvineyards.com/event/georgetown-name-that-tune-bingo-5/
LOCATION:Georgetown\, 706 S Austin Ave Suite 201\, Georgetown\, TX\, 78626\, United States
CATEGORIES:Special Event
ATTACH;FMTTYPE=image/jpeg:https://baronscreekvineyards.com/wp-content/uploads/2025/10/image0.jpeg
END:VEVENT
BEGIN:VEVENT
DTSTART;TZID=America/Los_Angeles:20260412T120000
DTEND;TZID=America/Los_Angeles:20260412T170000
DTSTAMP:20260422T192926
CREATED:20260211T191307Z
LAST-MODIFIED:20260224T180246Z
UID:10003273-1775995200-1776013200@baronscreekvineyards.com
SUMMARY:Georgetown - Release Party
DESCRIPTION:⛳🍷 It’s tee time… Masters Style! Join us for our Masters Themed Wine Club Release Party — where championship vibes meet award-worthy pours. \nWe’re bringing Augusta-inspired flair to the tasting room with a day full of great wine and elevated fun. Slip into your best golf attire (yes\, green jackets encouraged)\, grab a glass\, and celebrate the new club release in true Masters fashion. \n✨ What’s on the leaderboard:\n• First taste of our newest club wines\n• Masters-inspired bites & pairings\n• A lively\, social atmosphere perfect for sipping and celebrating \nClub members — this is your invitation to celebrate in style. Let’s raise a glass to birdies\, bogeys\, and bottles worth cheering for! \nReserve your spot — this is one release party you don’t want to miss!
URL:https://baronscreekvineyards.com/event/georgetown-release-party/
LOCATION:Georgetown\, 706 S Austin Ave Suite 201\, Georgetown\, TX\, 78626\, United States
CATEGORIES:Wine Club Event
ATTACH;FMTTYPE=image/png:https://baronscreekvineyards.com/wp-content/uploads/2026/02/Texas-April-Club-Release.png
END:VEVENT
BEGIN:VEVENT
DTSTART;TZID=America/Los_Angeles:20260410T193000
DTEND;TZID=America/Los_Angeles:20260410T213000
DTSTAMP:20260422T192926
CREATED:20260311T174702Z
LAST-MODIFIED:20260311T174703Z
UID:10003417-1775849400-1775856600@baronscreekvineyards.com
SUMMARY:Georgetown - Comedy On The Square
DESCRIPTION:Georgetown get ready for a high-energy stand-up comedy show that delivers bold humor\, sharp storytelling\, and nonstop laughs. Whether you’re a longtime comedy fan or just looking for a fun night out\, this tour promises a memorable experience from start to finish.
URL:https://baronscreekvineyards.com/event/georgetown-comedy-on-the-square/
LOCATION:Georgetown\, 706 S Austin Ave Suite 201\, Georgetown\, TX\, 78626\, United States
CATEGORIES:Special Event
ATTACH;FMTTYPE=image/png:https://baronscreekvineyards.com/wp-content/uploads/2026/03/Barons-Creek-Georgetown-April-10_2026-1.png
END:VEVENT
BEGIN:VEVENT
DTSTART;TZID=America/Los_Angeles:20260409T190000
DTEND;TZID=America/Los_Angeles:20260409T203000
DTSTAMP:20260422T192926
CREATED:20260218T192938Z
LAST-MODIFIED:20260218T192938Z
UID:10003322-1775761200-1775766600@baronscreekvineyards.com
SUMMARY:Georgetown - Trivia Night
DESCRIPTION:Get ready for an evening of brain-teasing fun as Barons Creek Vineyards presents Trivia Night! Gather your friends\, test your knowledge\, and enjoy a night filled with laughter\, friendly competition\, and\, of course\, exceptional wines.
URL:https://baronscreekvineyards.com/event/georgetown-trivia-night-4/
LOCATION:Georgetown\, 706 S Austin Ave Suite 201\, Georgetown\, TX\, 78626\, United States
CATEGORIES:Special Event
END:VEVENT
BEGIN:VEVENT
DTSTART;TZID=America/Los_Angeles:20260408T183000
DTEND;TZID=America/Los_Angeles:20260408T203000
DTSTAMP:20260422T192926
CREATED:20260217T223132Z
LAST-MODIFIED:20260217T223132Z
UID:10003313-1775673000-1775680200@baronscreekvineyards.com
SUMMARY:Georgetown - Sip & Paint
DESCRIPTION:Grab a glass\, get creative\, and enjoy a fun night of painting\, wine\, and good vibes. No experience needed—just come ready to sip and paint!
URL:https://baronscreekvineyards.com/event/georgetown-sip-paint-2/
LOCATION:Georgetown\, 706 S Austin Ave Suite 201\, Georgetown\, TX\, 78626\, United States
CATEGORIES:Special Event
END:VEVENT
BEGIN:VEVENT
DTSTART;TZID=America/Los_Angeles:20260402T190000
DTEND;TZID=America/Los_Angeles:20260402T210000
DTSTAMP:20260422T192926
CREATED:20260218T192157Z
LAST-MODIFIED:20260218T192157Z
UID:10003317-1775156400-1775163600@baronscreekvineyards.com
SUMMARY:Georgetown - Name That Tune Bingo
DESCRIPTION:Join us for an evening of melodies\, bingo\, and delightful wines. As the tunes play\, test your musical knowledge and mark off the songs on your bingo card. \nBring your friends and your competitive spirit as we blend the joy of music\, the thrill of bingo\, and the indulgence of wine into a night you won’t regret.
URL:https://baronscreekvineyards.com/event/georgetown-name-that-tune-bingo-4/
LOCATION:Georgetown\, 706 S Austin Ave Suite 201\, Georgetown\, TX\, 78626\, United States
CATEGORIES:Special Event
ATTACH;FMTTYPE=image/jpeg:https://baronscreekvineyards.com/wp-content/uploads/2025/10/image0.jpeg
END:VEVENT
BEGIN:VEVENT
DTSTART;TZID=America/Los_Angeles:20260326T190000
DTEND;TZID=America/Los_Angeles:20260326T203000
DTSTAMP:20260422T192926
CREATED:20260218T192853Z
LAST-MODIFIED:20260218T192853Z
UID:10003321-1774551600-1774557000@baronscreekvineyards.com
SUMMARY:Georgetown - Trivia Night
DESCRIPTION:Get ready for an evening of brain-teasing fun as Barons Creek Vineyards presents Trivia Night! Gather your friends\, test your knowledge\, and enjoy a night filled with laughter\, friendly competition\, and\, of course\, exceptional wines.
URL:https://baronscreekvineyards.com/event/georgetown-trivia-night-3/
LOCATION:Georgetown\, 706 S Austin Ave Suite 201\, Georgetown\, TX\, 78626\, United States
CATEGORIES:Special Event
END:VEVENT
BEGIN:VEVENT
DTSTART;TZID=America/Los_Angeles:20260319T190000
DTEND;TZID=America/Los_Angeles:20260319T210000
DTSTAMP:20260422T192926
CREATED:20260218T192020Z
LAST-MODIFIED:20260218T192037Z
UID:10003316-1773946800-1773954000@baronscreekvineyards.com
SUMMARY:Georgetown - Name That Tune Bingo
DESCRIPTION:Join us for an evening of melodies\, bingo\, and delightful wines. As the tunes play\, test your musical knowledge and mark off the songs on your bingo card. \nBring your friends and your competitive spirit as we blend the joy of music\, the thrill of bingo\, and the indulgence of wine into a night you won’t regret.
URL:https://baronscreekvineyards.com/event/georgetown-name-that-tune-bingo-3/
LOCATION:Georgetown\, 706 S Austin Ave Suite 201\, Georgetown\, TX\, 78626\, United States
CATEGORIES:Special Event
ATTACH;FMTTYPE=image/jpeg:https://baronscreekvineyards.com/wp-content/uploads/2025/10/image0.jpeg
END:VEVENT
BEGIN:VEVENT
DTSTART;TZID=America/Los_Angeles:20260312T190000
DTEND;TZID=America/Los_Angeles:20260312T203000
DTSTAMP:20260422T192926
CREATED:20260218T192721Z
LAST-MODIFIED:20260218T192748Z
UID:10003320-1773342000-1773347400@baronscreekvineyards.com
SUMMARY:Georgetown - Trivia Night
DESCRIPTION:Get ready for an evening of brain-teasing fun as Barons Creek Vineyards presents Trivia Night! Gather your friends\, test your knowledge\, and enjoy a night filled with laughter\, friendly competition\, and\, of course\, exceptional wines.
URL:https://baronscreekvineyards.com/event/georgetown-trivia-night-2/
LOCATION:Georgetown\, 706 S Austin Ave Suite 201\, Georgetown\, TX\, 78626\, United States
CATEGORIES:Special Event
END:VEVENT
BEGIN:VEVENT
DTSTART;TZID=America/Los_Angeles:20260311T183000
DTEND;TZID=America/Los_Angeles:20260311T203000
DTSTAMP:20260422T192926
CREATED:20260217T222957Z
LAST-MODIFIED:20260223T222250Z
UID:10003312-1773253800-1773261000@baronscreekvineyards.com
SUMMARY:Georgetown - Sip & Paint
DESCRIPTION:Grab a glass\, get creative\, and enjoy a fun night of painting\, wine\, and good vibes. No experience needed—just come ready to sip and paint!
URL:https://baronscreekvineyards.com/event/georgetown-sip-paint/
LOCATION:Georgetown\, 706 S Austin Ave Suite 201\, Georgetown\, TX\, 78626\, United States
CATEGORIES:Special Event
END:VEVENT
BEGIN:VEVENT
DTSTART;TZID=America/Los_Angeles:20260306T193000
DTEND;TZID=America/Los_Angeles:20260306T213000
DTSTAMP:20260422T192926
CREATED:20260217T222209Z
LAST-MODIFIED:20260223T203829Z
UID:10003311-1772825400-1772832600@baronscreekvineyards.com
SUMMARY:Georgetown - Comedy Night
DESCRIPTION:Get ready for a high-energy stand-up comedy show that delivers bold humor\, sharp storytelling\, and nonstop laughs. Whether you’re a longtime comedy fan or just looking for a fun night out\, this tour promises a memorable experience from start to finish.
URL:https://baronscreekvineyards.com/event/georgetown-not-our-first-rodeo-stand-up-comedy-tour/
LOCATION:Georgetown\, 706 S Austin Ave Suite 201\, Georgetown\, TX\, 78626\, United States
CATEGORIES:Special Event
ATTACH;FMTTYPE=image/png:https://baronscreekvineyards.com/wp-content/uploads/2026/02/Barons-Creek-Georgetown-March-6_2026-with-all-pics.png
END:VEVENT
BEGIN:VEVENT
DTSTART;TZID=America/Los_Angeles:20260305T190000
DTEND;TZID=America/Los_Angeles:20260305T210000
DTSTAMP:20260422T192926
CREATED:20260218T191807Z
LAST-MODIFIED:20260218T191807Z
UID:10003315-1772737200-1772744400@baronscreekvineyards.com
SUMMARY:Georgetown - Name That Tune Bingo
DESCRIPTION:Join us for an evening of melodies\, bingo\, and delightful wines. As the tunes play\, test your musical knowledge and mark off the songs on your bingo card. \nBring your friends and your competitive spirit as we blend the joy of music\, the thrill of bingo\, and the indulgence of wine into a night you won’t regret .
URL:https://baronscreekvineyards.com/event/georgetown-name-that-tune-bingo-2/
LOCATION:Georgetown\, 706 S Austin Ave Suite 201\, Georgetown\, TX\, 78626\, United States
CATEGORIES:Special Event
ATTACH;FMTTYPE=image/jpeg:https://baronscreekvineyards.com/wp-content/uploads/2025/10/image0.jpeg
END:VEVENT
BEGIN:VEVENT
DTSTART;TZID=America/Los_Angeles:20260226T190000
DTEND;TZID=America/Los_Angeles:20260226T203000
DTSTAMP:20260422T192926
CREATED:20260218T192633Z
LAST-MODIFIED:20260218T192633Z
UID:10003319-1772132400-1772137800@baronscreekvineyards.com
SUMMARY:Georgetown - Trivia Night
DESCRIPTION:Get ready for an evening of brain-teasing fun as Barons Creek Vineyards presents Trivia Night! Gather your friends\, test your knowledge\, and enjoy a night filled with laughter\, friendly competition\, and\, of course\, exceptional wines.
URL:https://baronscreekvineyards.com/event/georgetown-trivia-night/
LOCATION:Georgetown\, 706 S Austin Ave Suite 201\, Georgetown\, TX\, 78626\, United States
CATEGORIES:Special Event
END:VEVENT
BEGIN:VEVENT
DTSTART;TZID=America/Los_Angeles:20260219T190000
DTEND;TZID=America/Los_Angeles:20260219T210000
DTSTAMP:20260422T192926
CREATED:20260218T191622Z
LAST-MODIFIED:20260218T191622Z
UID:10003314-1771527600-1771534800@baronscreekvineyards.com
SUMMARY:Georgetown - Name That Tune Bingo
DESCRIPTION:Join us for an evening of melodies\, bingo\, and delightful wines. As the tunes play\, test your musical knowledge and mark off the songs on your bingo card. \nBring your friends and your competitive spirit as we blend the joy of music\, the thrill of bingo\, and the indulgence of wine into a night you won’t regret .
URL:https://baronscreekvineyards.com/event/georgetown-name-that-tune-bingo/
LOCATION:Georgetown\, 706 S Austin Ave Suite 201\, Georgetown\, TX\, 78626\, United States
CATEGORIES:Special Event
ATTACH;FMTTYPE=image/jpeg:https://baronscreekvineyards.com/wp-content/uploads/2023/11/image0.jpeg
END:VEVENT
END:VCALENDAR