BEGIN:VCALENDAR
VERSION:2.0
PRODID:-//Barons Creek Vineyards - ECPv6.15.20//NONSGML v1.0//EN
CALSCALE:GREGORIAN
METHOD:PUBLISH
X-WR-CALNAME:Barons Creek Vineyards
X-ORIGINAL-URL:https://baronscreekvineyards.com
X-WR-CALDESC:Events for Barons Creek Vineyards
REFRESH-INTERVAL;VALUE=DURATION:PT1H
X-Robots-Tag:noindex
X-PUBLISHED-TTL:PT1H
BEGIN:VTIMEZONE
TZID:America/Los_Angeles
BEGIN:DAYLIGHT
TZOFFSETFROM:-0800
TZOFFSETTO:-0700
TZNAME:PDT
DTSTART:20250309T100000
END:DAYLIGHT
BEGIN:STANDARD
TZOFFSETFROM:-0700
TZOFFSETTO:-0800
TZNAME:PST
DTSTART:20251102T090000
END:STANDARD
BEGIN:DAYLIGHT
TZOFFSETFROM:-0800
TZOFFSETTO:-0700
TZNAME:PDT
DTSTART:20260308T100000
END:DAYLIGHT
BEGIN:STANDARD
TZOFFSETFROM:-0700
TZOFFSETTO:-0800
TZNAME:PST
DTSTART:20261101T090000
END:STANDARD
BEGIN:DAYLIGHT
TZOFFSETFROM:-0800
TZOFFSETTO:-0700
TZNAME:PDT
DTSTART:20270314T100000
END:DAYLIGHT
BEGIN:STANDARD
TZOFFSETFROM:-0700
TZOFFSETTO:-0800
TZNAME:PST
DTSTART:20271107T090000
END:STANDARD
END:VTIMEZONE
BEGIN:VEVENT
DTSTART;VALUE=DATE:20260517
DTEND;VALUE=DATE:20260518
DTSTAMP:20260421T070514
CREATED:20260211T185325Z
LAST-MODIFIED:20260211T185326Z
UID:10003267-1779019200-1779037200@baronscreekvineyards.com
SUMMARY:Club Sunday
DESCRIPTION:We invite you to bring your friends and family to our winery and tasting rooms for a tasting experience. As a token of our appreciation for your continued support\, we are offering two additional complimentary tastings on these special Sundays. That’s four complimentary tastings for you and your guests!
URL:https://baronscreekvineyards.com/event/club-sunday-14/2026-05-17/
LOCATION:TX
CATEGORIES:Wine Club Event
END:VEVENT
BEGIN:VEVENT
DTSTART;VALUE=DATE:20260607
DTEND;VALUE=DATE:20260608
DTSTAMP:20260421T070514
CREATED:20260211T185325Z
LAST-MODIFIED:20260211T185326Z
UID:10003268-1780833600-1780851600@baronscreekvineyards.com
SUMMARY:Club Sunday
DESCRIPTION:We invite you to bring your friends and family to our winery and tasting rooms for a tasting experience. As a token of our appreciation for your continued support\, we are offering two additional complimentary tastings on these special Sundays. That’s four complimentary tastings for you and your guests!
URL:https://baronscreekvineyards.com/event/club-sunday-14/2026-06-07/
LOCATION:TX
CATEGORIES:Wine Club Event
END:VEVENT
BEGIN:VEVENT
DTSTART;TZID=America/Los_Angeles:20260712T120000
DTEND;TZID=America/Los_Angeles:20260712T150000
DTSTAMP:20260421T070514
CREATED:20260211T203605Z
LAST-MODIFIED:20260324T201924Z
UID:10003280-1783857600-1783868400@baronscreekvineyards.com
SUMMARY:Fredericksburg - Release Party
DESCRIPTION:🎾🍷 July Club Release: Wimbledon & Wine 🍷🎾 \nGame. Set. Sip. Join us this July as we bring the timeless elegance and playful competition of Wimbledon to Barons Creek Vineyards for our Club Release celebration — where crisp whites\, bold reds\, and summer fun take center court. \nDress in your best tennis whites (or vineyard chic)\, grab a glass\, and enjoy an afternoon inspired by one of the world’s most iconic tournaments. Expect delicious wine pours\, themed bites\, photo moments\, and plenty of friendly rivalry — all paired perfectly with the wines you love. \nWhether you’re here to rally with friends\, toast to summer\, or simply savor your newest club selections\, this release party is designed to feel festive\, social\, and unmistakably Barons Creek. \n✨ Wimbledon vibes\n🍓 Seasonal pairings\n🍷 Your July club wines \nBecause when it comes to great wine\, great company\, and unforgettable experiences… \nThere is only one Barons Creek Vineyards. \nReserve your spot and let the sipping begin — we’ll see you courtside.
URL:https://baronscreekvineyards.com/event/fredericksburg-release-party-2/
LOCATION:Fredericksburg\, 5865 East US-290\, Fredericksburg\, TX\, 78624\, United States
CATEGORIES:Wine Club Event
ATTACH;FMTTYPE=image/png:https://baronscreekvineyards.com/wp-content/uploads/2026/02/July-Club-Release-.png
END:VEVENT
BEGIN:VEVENT
DTSTART;TZID=America/Los_Angeles:20260712T120000
DTEND;TZID=America/Los_Angeles:20260712T150000
DTSTAMP:20260421T070514
CREATED:20260211T205030Z
LAST-MODIFIED:20260324T202123Z
UID:10003285-1783857600-1783868400@baronscreekvineyards.com
SUMMARY:Durango - Release Party
DESCRIPTION:🎾🍷 July Club Release: Wimbledon & Wine 🍷🎾 \nGame. Set. Sip. Join us this July as we bring the timeless elegance and playful competition of Wimbledon to Barons Creek Vineyards for our Club Release celebration — where crisp whites\, bold reds\, and summer fun take center court. \nDress in your best tennis whites (or vineyard chic)\, grab a glass\, and enjoy an afternoon inspired by one of the world’s most iconic tournaments. Expect delicious wine pours\, themed bites\, photo moments\, and plenty of friendly rivalry — all paired perfectly with the wines you love. \nWhether you’re here to rally with friends\, toast to summer\, or simply savor your newest club selections\, this release party is designed to feel festive\, social\, and unmistakably Barons Creek. \n✨ Wimbledon vibes\n🍓 Seasonal pairings\n🍷 Your July club wines \nBecause when it comes to great wine\, great company\, and unforgettable experiences… \nThere is only one Barons Creek Vineyards. \nReserve your spot and let the sipping begin — we’ll see you courtside.
URL:https://baronscreekvineyards.com/event/durango-release-party-2/
LOCATION:Durango\, 901 Main Ave\, Durango\, CO\, 81301\, United States
CATEGORIES:Wine Club Event
ATTACH;FMTTYPE=image/png:https://baronscreekvineyards.com/wp-content/uploads/2026/02/July-Club-Release-.png
END:VEVENT
BEGIN:VEVENT
DTSTART;TZID=America/Los_Angeles:20260712T120000
DTEND;TZID=America/Los_Angeles:20260712T170000
DTSTAMP:20260421T070514
CREATED:20260211T203928Z
LAST-MODIFIED:20260324T210959Z
UID:10003281-1783857600-1783875600@baronscreekvineyards.com
SUMMARY:Georgetown - Release Party
DESCRIPTION:🎾🍷 July Club Release: Wimbledon & Wine 🍷🎾 \nGame. Set. Sip. Join us this July as we bring the timeless elegance and playful competition of Wimbledon to Barons Creek Vineyards for our Club Release celebration — where crisp whites\, bold reds\, and summer fun take center court. \nDress in your best tennis whites (or vineyard chic)\, grab a glass\, and enjoy an afternoon inspired by one of the world’s most iconic tournaments. Expect delicious wine pours\, themed bites\, photo moments\, and plenty of friendly rivalry — all paired perfectly with the wines you love. \nWhether you’re here to rally with friends\, toast to summer\, or simply savor your newest club selections\, this release party is designed to feel festive\, social\, and unmistakably Barons Creek. \n✨ Wimbledon vibes\n🍓 Seasonal pairings\n🍷 Your July club wines \nBecause when it comes to great wine\, great company\, and unforgettable experiences… \nThere is only one Barons Creek Vineyards. \nReserve your spot and let the sipping begin — we’ll see you courtside.
URL:https://baronscreekvineyards.com/event/georgetown-release-party-2/
LOCATION:Georgetown\, 706 S Austin Ave Suite 201\, Georgetown\, TX\, 78626\, United States
CATEGORIES:Wine Club Event
ATTACH;FMTTYPE=image/png:https://baronscreekvineyards.com/wp-content/uploads/2026/02/July-Club-Release-.png
END:VEVENT
BEGIN:VEVENT
DTSTART;TZID=America/Los_Angeles:20260712T120000
DTEND;TZID=America/Los_Angeles:20260712T170000
DTSTAMP:20260421T070514
CREATED:20260211T204034Z
LAST-MODIFIED:20260324T212812Z
UID:10003282-1783857600-1783875600@baronscreekvineyards.com
SUMMARY:Granbury - Release Party
DESCRIPTION:🎾🍷 July Club Release: Wimbledon & Wine 🍷🎾 \nGame. Set. Sip. Join us this July as we bring the timeless elegance and playful competition of Wimbledon to Barons Creek Vineyards for our Club Release celebration — where crisp whites\, bold reds\, and summer fun take center court. \nDress in your best tennis whites (or vineyard chic)\, grab a glass\, and enjoy an afternoon inspired by one of the world’s most iconic tournaments. Expect delicious wine pours\, themed bites\, photo moments\, and plenty of friendly rivalry — all paired perfectly with the wines you love. \nWhether you’re here to rally with friends\, toast to summer\, or simply savor your newest club selections\, this release party is designed to feel festive\, social\, and unmistakably Barons Creek. \n✨ Wimbledon vibes\n🍓 Seasonal pairings\n🍷 Your July club wines \nBecause when it comes to great wine\, great company\, and unforgettable experiences… \nThere is only one Barons Creek Vineyards. \nReserve your spot and let the sipping begin — we’ll see you courtside.
URL:https://baronscreekvineyards.com/event/granbury-release-party-2/
LOCATION:Granbury\, 115 E Bridge St\, Granbury\, TX\, 76048\, United States
CATEGORIES:Wine Club Event
ATTACH;FMTTYPE=image/png:https://baronscreekvineyards.com/wp-content/uploads/2026/02/July-Club-Release-.png
END:VEVENT
BEGIN:VEVENT
DTSTART;TZID=America/Los_Angeles:20260719T120000
DTEND;TZID=America/Los_Angeles:20260719T170000
DTSTAMP:20260421T070514
CREATED:20260211T204138Z
LAST-MODIFIED:20260211T204138Z
UID:10003283-1784462400-1784480400@baronscreekvineyards.com
SUMMARY:McKinney - Release Party
DESCRIPTION:🎾🍷 July Club Release: Wimbledon & Wine 🍷🎾 \nGame. Set. Sip. Join us this July as we bring the timeless elegance and playful competition of Wimbledon to Barons Creek Vineyards for our Club Release celebration — where crisp whites\, bold reds\, and summer fun take center court. \nDress in your best tennis whites (or vineyard chic)\, grab a glass\, and enjoy an afternoon inspired by one of the world’s most iconic tournaments. Expect delicious wine pours\, themed bites\, photo moments\, and plenty of friendly rivalry — all paired perfectly with the wines you love. \nWhether you’re here to rally with friends\, toast to summer\, or simply savor your newest club selections\, this release party is designed to feel festive\, social\, and unmistakably Barons Creek. \n✨ Wimbledon vibes\n🍓 Seasonal pairings\n🍷 Your July club wines \nBecause when it comes to great wine\, great company\, and unforgettable experiences… \nThere is only one Barons Creek Vineyards. \nReserve your spot and let the sipping begin — we’ll see you courtside.
URL:https://baronscreekvineyards.com/event/mckinney-release-party-2/
LOCATION:McKinney\, 301 W Louisiana St\, McKinney\, TX\, 75069\, United States
CATEGORIES:Wine Club Event
ATTACH;FMTTYPE=image/png:https://baronscreekvineyards.com/wp-content/uploads/2026/02/July-Club-Release-.png
END:VEVENT
BEGIN:VEVENT
DTSTART;TZID=America/Los_Angeles:20260719T120000
DTEND;TZID=America/Los_Angeles:20260719T170000
DTSTAMP:20260421T070514
CREATED:20260211T204856Z
LAST-MODIFIED:20260324T200208Z
UID:10003284-1784462400-1784480400@baronscreekvineyards.com
SUMMARY:Dallas - Release Party
DESCRIPTION:🎾🍷 July Club Release: Wimbledon & Wine 🍷🎾 \nGame. Set. Sip. Join us this July as we bring the timeless elegance and playful competition of Wimbledon to Barons Creek Vineyards for our Club Release celebration — where crisp whites\, bold reds\, and summer fun take center court. \nDress in your best tennis whites (or vineyard chic)\, grab a glass\, and enjoy an afternoon inspired by one of the world’s most iconic tournaments. Expect delicious wine pours\, themed bites\, photo moments\, and plenty of friendly rivalry — all paired perfectly with the wines you love. \nWhether you’re here to rally with friends\, toast to summer\, or simply savor your newest club selections\, this release party is designed to feel festive\, social\, and unmistakably Barons Creek. \n✨ Wimbledon vibes\n🍓 Seasonal pairings\n🍷 Your July club wines \nBecause when it comes to great wine\, great company\, and unforgettable experiences… \nThere is only one Barons Creek Vineyards. \nReserve your spot and let the sipping begin — we’ll see you courtside.
URL:https://baronscreekvineyards.com/event/dallas-release-party-2/
LOCATION:Dallas- Bishop Arts District\, 418 N Bishop Ave\, Dallas\, TX\, 75208\, United States
CATEGORIES:Wine Club Event
ATTACH;FMTTYPE=image/png:https://baronscreekvineyards.com/wp-content/uploads/2026/02/July-Club-Release-.png
END:VEVENT
BEGIN:VEVENT
DTSTART;TZID=America/Los_Angeles:20260719T120000
DTEND;TZID=America/Los_Angeles:20260719T170000
DTSTAMP:20260421T070514
CREATED:20260211T205317Z
LAST-MODIFIED:20260211T205317Z
UID:10003286-1784462400-1784480400@baronscreekvineyards.com
SUMMARY:Ocala - Release Party
DESCRIPTION:🎾🍷 July Club Release: Wimbledon & Wine 🍷🎾 \nGame. Set. Sip. Join us this July as we bring the timeless elegance and playful competition of Wimbledon to Barons Creek Vineyards for our Club Release celebration — where crisp whites\, bold reds\, and summer fun take center court. \nDress in your best tennis whites (or vineyard chic)\, grab a glass\, and enjoy an afternoon inspired by one of the world’s most iconic tournaments. Expect delicious wine pours\, themed bites\, photo moments\, and plenty of friendly rivalry — all paired perfectly with the wines you love. \nWhether you’re here to rally with friends\, toast to summer\, or simply savor your newest club selections\, this release party is designed to feel festive\, social\, and unmistakably Barons Creek. \n✨ Wimbledon vibes\n🍓 Seasonal pairings\n🍷 Your July club wines \nBecause when it comes to great wine\, great company\, and unforgettable experiences… \nThere is only one Barons Creek Vineyards. \nReserve your spot and let the sipping begin — we’ll see you courtside.
URL:https://baronscreekvineyards.com/event/ocala-release-party-2/
LOCATION:Ocala\, 16 Southwest Broadway St\, Ocala\, FL\, 33371\, United States
CATEGORIES:Wine Club Event
ATTACH;FMTTYPE=image/png:https://baronscreekvineyards.com/wp-content/uploads/2026/02/July-Club-Release-.png
END:VEVENT
BEGIN:VEVENT
DTSTART;VALUE=DATE:20260816
DTEND;VALUE=DATE:20260817
DTSTAMP:20260421T070514
CREATED:20260211T185325Z
LAST-MODIFIED:20260211T185326Z
UID:10003269-1786881600-1786899600@baronscreekvineyards.com
SUMMARY:Club Sunday
DESCRIPTION:We invite you to bring your friends and family to our winery and tasting rooms for a tasting experience. As a token of our appreciation for your continued support\, we are offering two additional complimentary tastings on these special Sundays. That’s four complimentary tastings for you and your guests!
URL:https://baronscreekvineyards.com/event/club-sunday-14/2026-08-16/
LOCATION:TX
CATEGORIES:Wine Club Event
END:VEVENT
BEGIN:VEVENT
DTSTART;TZID=America/Los_Angeles:20260920T120000
DTEND;TZID=America/Los_Angeles:20260920T150000
DTSTAMP:20260421T070514
CREATED:20260211T214258Z
LAST-MODIFIED:20260211T214259Z
UID:10003293-1789905600-1789916400@baronscreekvineyards.com
SUMMARY:Durango - Release Party
DESCRIPTION:🍷✨ Viva la Dolce Vita! – Club Release Party ✨🍷 \nBellissimo! It’s time to celebrate the sweet life with Barons Creek Vineyards at our Viva la Dolce Vita Club Release Party! Indulge in an evening inspired by the flavors\, fun\, and flair of Italy – because life is too short not to sip\, savor\, and celebrate! \n🎉 What’s Happening: \n\n\nExclusive Club Wine Release: Be the first to taste our newest hand-selected vintages – only for our club members! 🍇 \n\n\nItalian-Inspired Bites: Chef-crafted delights that pair perfectly with your glass of wine. 🧀🍅 \n\n\nViva la Dolce Vita Vibes: Dress to impress in your Italian-inspired best – think chic\, playful\, and a touch of la dolce vita flair! 🇮🇹💃 \n\n\nThis is more than a club release – it’s a celebration of life’s sweet moments. Bring your friends\, raise a glass\, and toast to Viva la Dolce Vita with us! 🥂
URL:https://baronscreekvineyards.com/event/durango-release-party-3/
LOCATION:Durango\, 901 Main Ave\, Durango\, CO\, 81301\, United States
CATEGORIES:Wine Club Event
END:VEVENT
BEGIN:VEVENT
DTSTART;TZID=America/Los_Angeles:20260920T120000
DTEND;TZID=America/Los_Angeles:20260920T170000
DTSTAMP:20260421T070514
CREATED:20260211T213640Z
LAST-MODIFIED:20260211T213640Z
UID:10003289-1789905600-1789923600@baronscreekvineyards.com
SUMMARY:Georgetown - Release Party
DESCRIPTION:🍷✨ Viva la Dolce Vita! – Club Release Party ✨🍷 \nBellissimo! It’s time to celebrate the sweet life with Barons Creek Vineyards at our Viva la Dolce Vita Club Release Party! Indulge in an evening inspired by the flavors\, fun\, and flair of Italy – because life is too short not to sip\, savor\, and celebrate! \n🎉 What’s Happening: \n\n\nExclusive Club Wine Release: Be the first to taste our newest hand-selected vintages – only for our club members! 🍇 \n\n\nItalian-Inspired Bites: Chef-crafted delights that pair perfectly with your glass of wine. 🧀🍅 \n\n\nViva la Dolce Vita Vibes: Dress to impress in your Italian-inspired best – think chic\, playful\, and a touch of la dolce vita flair! 🇮🇹💃 \n\n\nThis is more than a club release – it’s a celebration of life’s sweet moments. Bring your friends\, raise a glass\, and toast to Viva la Dolce Vita with us! 🥂
URL:https://baronscreekvineyards.com/event/georgetown-release-party-3/
LOCATION:Georgetown\, 706 S Austin Ave Suite 201\, Georgetown\, TX\, 78626\, United States
CATEGORIES:Wine Club Event
END:VEVENT
BEGIN:VEVENT
DTSTART;TZID=America/Los_Angeles:20260920T120000
DTEND;TZID=America/Los_Angeles:20260920T170000
DTSTAMP:20260421T070514
CREATED:20260211T213938Z
LAST-MODIFIED:20260211T213938Z
UID:10003290-1789905600-1789923600@baronscreekvineyards.com
SUMMARY:Granbury - Release Party
DESCRIPTION:🍷✨ Viva la Dolce Vita! – Club Release Party ✨🍷 \nBellissimo! It’s time to celebrate the sweet life with Barons Creek Vineyards at our Viva la Dolce Vita Club Release Party! Indulge in an evening inspired by the flavors\, fun\, and flair of Italy – because life is too short not to sip\, savor\, and celebrate! \n🎉 What’s Happening: \n\n\nExclusive Club Wine Release: Be the first to taste our newest hand-selected vintages – only for our club members! 🍇 \n\n\nItalian-Inspired Bites: Chef-crafted delights that pair perfectly with your glass of wine. 🧀🍅 \n\n\nViva la Dolce Vita Vibes: Dress to impress in your Italian-inspired best – think chic\, playful\, and a touch of la dolce vita flair! 🇮🇹💃 \n\n\nThis is more than a club release – it’s a celebration of life’s sweet moments. Bring your friends\, raise a glass\, and toast to Viva la Dolce Vita with us! 🥂
URL:https://baronscreekvineyards.com/event/granbury-release-party-3/
LOCATION:Granbury\, 115 E Bridge St\, Granbury\, TX\, 76048\, United States
CATEGORIES:Wine Club Event
END:VEVENT
BEGIN:VEVENT
DTSTART;TZID=America/Los_Angeles:20260920T120000
DTEND;TZID=America/Los_Angeles:20260920T170000
DTSTAMP:20260421T070514
CREATED:20260211T214042Z
LAST-MODIFIED:20260211T214042Z
UID:10003291-1789905600-1789923600@baronscreekvineyards.com
SUMMARY:McKinney - Release Party
DESCRIPTION:🍷✨ Viva la Dolce Vita! – Club Release Party ✨🍷 \nBellissimo! It’s time to celebrate the sweet life with Barons Creek Vineyards at our Viva la Dolce Vita Club Release Party! Indulge in an evening inspired by the flavors\, fun\, and flair of Italy – because life is too short not to sip\, savor\, and celebrate! \n🎉 What’s Happening: \n\n\nExclusive Club Wine Release: Be the first to taste our newest hand-selected vintages – only for our club members! 🍇 \n\n\nItalian-Inspired Bites: Chef-crafted delights that pair perfectly with your glass of wine. 🧀🍅 \n\n\nViva la Dolce Vita Vibes: Dress to impress in your Italian-inspired best – think chic\, playful\, and a touch of la dolce vita flair! 🇮🇹💃 \n\n\nThis is more than a club release – it’s a celebration of life’s sweet moments. Bring your friends\, raise a glass\, and toast to Viva la Dolce Vita with us! 🥂
URL:https://baronscreekvineyards.com/event/mckinney-release-party-3/
LOCATION:McKinney\, 301 W Louisiana St\, McKinney\, TX\, 75069\, United States
CATEGORIES:Wine Club Event
END:VEVENT
BEGIN:VEVENT
DTSTART;TZID=America/Los_Angeles:20260920T120000
DTEND;TZID=America/Los_Angeles:20260920T170000
DTSTAMP:20260421T070514
CREATED:20260211T214145Z
LAST-MODIFIED:20260211T214145Z
UID:10003292-1789905600-1789923600@baronscreekvineyards.com
SUMMARY:Dallas - Release Party
DESCRIPTION:🍷✨ Viva la Dolce Vita! – Club Release Party ✨🍷 \nBellissimo! It’s time to celebrate the sweet life with Barons Creek Vineyards at our Viva la Dolce Vita Club Release Party! Indulge in an evening inspired by the flavors\, fun\, and flair of Italy – because life is too short not to sip\, savor\, and celebrate! \n🎉 What’s Happening: \n\n\nExclusive Club Wine Release: Be the first to taste our newest hand-selected vintages – only for our club members! 🍇 \n\n\nItalian-Inspired Bites: Chef-crafted delights that pair perfectly with your glass of wine. 🧀🍅 \n\n\nViva la Dolce Vita Vibes: Dress to impress in your Italian-inspired best – think chic\, playful\, and a touch of la dolce vita flair! 🇮🇹💃 \n\n\nThis is more than a club release – it’s a celebration of life’s sweet moments. Bring your friends\, raise a glass\, and toast to Viva la Dolce Vita with us! 🥂
URL:https://baronscreekvineyards.com/event/dallas-release-party-3/
LOCATION:Dallas- Bishop Arts District\, 418 N Bishop Ave\, Dallas\, TX\, 75208\, United States
CATEGORIES:Wine Club Event
END:VEVENT
BEGIN:VEVENT
DTSTART;TZID=America/Los_Angeles:20260927T120000
DTEND;TZID=America/Los_Angeles:20260927T150000
DTSTAMP:20260421T070514
CREATED:20260211T213516Z
LAST-MODIFIED:20260211T213516Z
UID:10003288-1790510400-1790521200@baronscreekvineyards.com
SUMMARY:Fredericksburg - Release Party
DESCRIPTION:🍷✨ Viva la Dolce Vita! – Club Release Party ✨🍷 \nBellissimo! It’s time to celebrate the sweet life with Barons Creek Vineyards at our Viva la Dolce Vita Club Release Party! Indulge in an evening inspired by the flavors\, fun\, and flair of Italy – because life is too short not to sip\, savor\, and celebrate! \n🎉 What’s Happening: \n\n\nExclusive Club Wine Release: Be the first to taste our newest hand-selected vintages – only for our club members! 🍇 \n\n\nItalian-Inspired Bites: Chef-crafted delights that pair perfectly with your glass of wine. 🧀🍅 \n\n\nViva la Dolce Vita Vibes: Dress to impress in your Italian-inspired best – think chic\, playful\, and a touch of la dolce vita flair! 🇮🇹💃 \n\n\nThis is more than a club release – it’s a celebration of life’s sweet moments. Bring your friends\, raise a glass\, and toast to Viva la Dolce Vita with us! 🥂
URL:https://baronscreekvineyards.com/event/fredericksburg-release-party-3/
LOCATION:Fredericksburg\, 5865 East US-290\, Fredericksburg\, TX\, 78624\, United States
CATEGORIES:Wine Club Event
END:VEVENT
BEGIN:VEVENT
DTSTART;TZID=America/Los_Angeles:20260927T120000
DTEND;TZID=America/Los_Angeles:20260927T170000
DTSTAMP:20260421T070514
CREATED:20260211T214354Z
LAST-MODIFIED:20260211T214354Z
UID:10003294-1790510400-1790528400@baronscreekvineyards.com
SUMMARY:Ocala - Release Party
DESCRIPTION:🍷✨ Viva la Dolce Vita! – Club Release Party ✨🍷 \nBellissimo! It’s time to celebrate the sweet life with Barons Creek Vineyards at our Viva la Dolce Vita Club Release Party! Indulge in an evening inspired by the flavors\, fun\, and flair of Italy – because life is too short not to sip\, savor\, and celebrate! \n🎉 What’s Happening: \n\n\nExclusive Club Wine Release: Be the first to taste our newest hand-selected vintages – only for our club members! 🍇 \n\n\nItalian-Inspired Bites: Chef-crafted delights that pair perfectly with your glass of wine. 🧀🍅 \n\n\nViva la Dolce Vita Vibes: Dress to impress in your Italian-inspired best – think chic\, playful\, and a touch of la dolce vita flair! 🇮🇹💃 \n\n\nThis is more than a club release – it’s a celebration of life’s sweet moments. Bring your friends\, raise a glass\, and toast to Viva la Dolce Vita with us! 🥂
URL:https://baronscreekvineyards.com/event/ocala-release-party-3/
LOCATION:Ocala\, 16 Southwest Broadway St\, Ocala\, FL\, 33371\, United States
CATEGORIES:Wine Club Event
END:VEVENT
BEGIN:VEVENT
DTSTART;VALUE=DATE:20261018
DTEND;VALUE=DATE:20261019
DTSTAMP:20260421T070514
CREATED:20260211T185325Z
LAST-MODIFIED:20260211T185326Z
UID:10003270-1792324800-1792342800@baronscreekvineyards.com
SUMMARY:Club Sunday
DESCRIPTION:We invite you to bring your friends and family to our winery and tasting rooms for a tasting experience. As a token of our appreciation for your continued support\, we are offering two additional complimentary tastings on these special Sundays. That’s four complimentary tastings for you and your guests!
URL:https://baronscreekvineyards.com/event/club-sunday-14/2026-10-18/
LOCATION:TX
CATEGORIES:Wine Club Event
END:VEVENT
BEGIN:VEVENT
DTSTART;TZID=America/Los_Angeles:20261108T120000
DTEND;TZID=America/Los_Angeles:20261108T150000
DTSTAMP:20260421T070514
CREATED:20260211T222202Z
LAST-MODIFIED:20260211T222202Z
UID:10003301-1794139200-1794150000@baronscreekvineyards.com
SUMMARY:Fredericksburg - Release Party
DESCRIPTION:
URL:https://baronscreekvineyards.com/event/fredericksburg-release-party-4/
LOCATION:Fredericksburg\, 5865 East US-290\, Fredericksburg\, TX\, 78624\, United States
CATEGORIES:Wine Club Event
END:VEVENT
BEGIN:VEVENT
DTSTART;TZID=America/Los_Angeles:20261108T120000
DTEND;TZID=America/Los_Angeles:20261108T170000
DTSTAMP:20260421T070514
CREATED:20260211T222325Z
LAST-MODIFIED:20260211T222325Z
UID:10003302-1794139200-1794157200@baronscreekvineyards.com
SUMMARY:Georgetown - Release Party
DESCRIPTION:
URL:https://baronscreekvineyards.com/event/georgetown-release-party-4/
LOCATION:Georgetown\, 706 S Austin Ave Suite 201\, Georgetown\, TX\, 78626\, United States
CATEGORIES:Wine Club Event
END:VEVENT
BEGIN:VEVENT
DTSTART;TZID=America/Los_Angeles:20261108T120000
DTEND;TZID=America/Los_Angeles:20261108T170000
DTSTAMP:20260421T070514
CREATED:20260211T222455Z
LAST-MODIFIED:20260211T222455Z
UID:10003303-1794139200-1794157200@baronscreekvineyards.com
SUMMARY:Granbury - Release Party
DESCRIPTION:
URL:https://baronscreekvineyards.com/event/granbury-release-party-4/
LOCATION:Granbury\, 115 E Bridge St\, Granbury\, TX\, 76048\, United States
CATEGORIES:Wine Club Event
END:VEVENT
BEGIN:VEVENT
DTSTART;TZID=America/Los_Angeles:20261108T120000
DTEND;TZID=America/Los_Angeles:20261108T170000
DTSTAMP:20260421T070514
CREATED:20260211T222615Z
LAST-MODIFIED:20260211T222615Z
UID:10003304-1794139200-1794157200@baronscreekvineyards.com
SUMMARY:McKinney - Release Party
DESCRIPTION:
URL:https://baronscreekvineyards.com/event/mckinney-release-party-4/
LOCATION:McKinney\, 301 W Louisiana St\, McKinney\, TX\, 75069\, United States
CATEGORIES:Wine Club Event
END:VEVENT
BEGIN:VEVENT
DTSTART;TZID=America/Los_Angeles:20261108T120000
DTEND;TZID=America/Los_Angeles:20261108T170000
DTSTAMP:20260421T070514
CREATED:20260211T222933Z
LAST-MODIFIED:20260211T222933Z
UID:10003307-1794139200-1794157200@baronscreekvineyards.com
SUMMARY:Ocala - Release Party
DESCRIPTION:
URL:https://baronscreekvineyards.com/event/ocala-release-party-4/
LOCATION:Ocala\, 16 Southwest Broadway St\, Ocala\, FL\, 33371\, United States
CATEGORIES:Wine Club Event
END:VEVENT
BEGIN:VEVENT
DTSTART;TZID=America/Los_Angeles:20261115T120000
DTEND;TZID=America/Los_Angeles:20261115T150000
DTSTAMP:20260421T070514
CREATED:20260211T222833Z
LAST-MODIFIED:20260211T222833Z
UID:10003306-1794744000-1794754800@baronscreekvineyards.com
SUMMARY:Durango - Release Party
DESCRIPTION:
URL:https://baronscreekvineyards.com/event/durango-release-party-4/
LOCATION:Durango\, 901 Main Ave\, Durango\, CO\, 81301\, United States
CATEGORIES:Wine Club Event
END:VEVENT
BEGIN:VEVENT
DTSTART;TZID=America/Los_Angeles:20261115T120000
DTEND;TZID=America/Los_Angeles:20261115T170000
DTSTAMP:20260421T070514
CREATED:20260211T222723Z
LAST-MODIFIED:20260211T222723Z
UID:10003305-1794744000-1794762000@baronscreekvineyards.com
SUMMARY:Dallas - Release Party
DESCRIPTION:
URL:https://baronscreekvineyards.com/event/dallas-release-party-4/
LOCATION:Dallas- Bishop Arts District\, 418 N Bishop Ave\, Dallas\, TX\, 75208\, United States
CATEGORIES:Wine Club Event
END:VEVENT
BEGIN:VEVENT
DTSTART;VALUE=DATE:20261213
DTEND;VALUE=DATE:20261214
DTSTAMP:20260421T070514
CREATED:20260211T185325Z
LAST-MODIFIED:20260211T185326Z
UID:10003271-1797163200-1797181200@baronscreekvineyards.com
SUMMARY:Club Sunday
DESCRIPTION:We invite you to bring your friends and family to our winery and tasting rooms for a tasting experience. As a token of our appreciation for your continued support\, we are offering two additional complimentary tastings on these special Sundays. That’s four complimentary tastings for you and your guests!
URL:https://baronscreekvineyards.com/event/club-sunday-14/2026-12-13/
LOCATION:TX
CATEGORIES:Wine Club Event
END:VEVENT
END:VCALENDAR